BEGIN:VCALENDAR
VERSION:2.0
PRODID:SchoolNow
CALSCALE:GREGORIAN
BEGIN:VEVENT
UID:bd52d6c4-0659-11ee-a164-0a85f09e27eb
DTSTAMP:20230609T000819Z
SUMMARY:SOSD Centralized Registration
DESCRIPTION:For more information about 2023-2024 Centralized Registration\,
  visit https://www.starkvillesd.com/news/1768462/sosd-announces-dates-for
 -centralized-registration
LOCATION:Partnership Middle School
URL;VALUE=URI:https://www.starkvillesd.com/calendar/4372964/sosd-centralize
 d-registration
DTSTART:20230711T170000Z
DTEND:20230711T230000Z
END:VEVENT
END:VCALENDAR
