BEGIN:VCALENDAR
VERSION:2.0
PRODID:SchoolNow
CALSCALE:GREGORIAN
BEGIN:VEVENT
UID:daf90374-0659-11ee-861d-0a85f09e27eb
DTSTAMP:20230609T000909Z
SUMMARY:SOSD Centralized Registration
DESCRIPTION:For more information about 2023-2024 Centralized Registration\,
  visit https://www.starkvillesd.com/news/1768462/sosd-announces-dates-for
 -centralized-registration
LOCATION:Partnership Middle School
URL;VALUE=URI:https://www.starkvillesd.com/calendar/4372965/sosd-centralize
 d-registration-clone
DTSTART:20230712T120000Z
DTEND:20230712T200000Z
END:VEVENT
END:VCALENDAR
