BEGIN:VCALENDAR
VERSION:2.0
PRODID:SchoolNow
CALSCALE:GREGORIAN
BEGIN:VEVENT
UID:14faad48-065a-11ee-a8b7-0a85f09e27eb
DTSTAMP:20230609T001046Z
SUMMARY:SOSD Centralized Registration
DESCRIPTION:For more information about 2023-2024 Centralized Registration\,
  visit https://www.starkvillesd.com/news/1768462/sosd-announces-dates-for
 -centralized-registration
LOCATION:Partnership Middle School
URL;VALUE=URI:https://www.starkvillesd.com/calendar/4372968/sosd-centralize
 d-registration-clone-clone
DTSTART:20230713T150000Z
DTEND:20230713T230000Z
END:VEVENT
END:VCALENDAR
