BEGIN:VCALENDAR
VERSION:2.0
PRODID:SchoolNow
CALSCALE:GREGORIAN
BEGIN:VEVENT
UID:c8c25768-065a-11ee-8a6d-0a85f09e27eb
DTSTAMP:20230609T001548Z
SUMMARY:Juggle with the Jackets Mini Soccer Camp
DESCRIPTION:For more information about the Juggle with the Jackets Mini Soc
 cer Camp and how to register\, visit https://www.starkvillesd.com/news/17
 68021/shs-soccer-to-host-juggle-with-the-jackets-mini-soccer-camp
LOCATION:Starkville High School
URL;VALUE=URI:https://www.starkvillesd.com/calendar/4372973/juggle-with-the
 -jackets-mini-soccer-camp-clone
DTSTART:20230627T213000Z
DTEND:20230628T000000Z
END:VEVENT
END:VCALENDAR
