BEGIN:VCALENDAR
VERSION:2.0
PRODID:SchoolNow
CALSCALE:GREGORIAN
BEGIN:VEVENT
UID:eacf0c70-065a-11ee-907e-0a85f09e27eb
DTSTAMP:20230609T001645Z
SUMMARY:Juggle with the Jackets Mini Soccer Camp
DESCRIPTION:For more information about the Juggle with the Jackets Mini Soc
 cer Camp and how to register\, visit https://www.starkvillesd.com/news/17
 68021/shs-soccer-to-host-juggle-with-the-jackets-mini-soccer-camp
LOCATION:Starkville High School
URL;VALUE=URI:https://www.starkvillesd.com/calendar/4372975/juggle-with-the
 -jackets-mini-soccer-camp-clone-clone
DTSTART:20230628T213000Z
DTEND:20230629T000000Z
END:VEVENT
END:VCALENDAR
