BEGIN:VCALENDAR
VERSION:2.0
PRODID:SchoolNow
CALSCALE:GREGORIAN
BEGIN:VEVENT
UID:fcecf394-065b-11ee-860c-0eda260ee777
DTSTAMP:20230609T002425Z
SUMMARY:Starkville in the Spotlight: Community Resource Showcase
LOCATION:Starkville Sportsplex
URL;VALUE=URI:https://www.starkvillesd.com/calendar/4372976/starkville-in-t
 he-spotlight-community-resource-showcase
DTSTART:20230817T160000Z
DTEND:20230817T190000Z
END:VEVENT
END:VCALENDAR
