BEGIN:VCALENDAR
VERSION:2.0
PRODID:SchoolNow
CALSCALE:GREGORIAN
BEGIN:VEVENT
UID:1e0a07ee-095c-11ee-a8a8-0a8218498eef
DTSTAMP:20230821T232140Z
SUMMARY:SHS Football VS Noxubee [Kickoff Time Changed]
DESCRIPTION:SHS Football VS Noxubee\n8:00pm\nYellow Jacket Stadium\n\nUpdat
 ed Gameday Operations: https://www.starkvillesd.com/news/1771685/shs-vs-n
 oxubee-kickoff-time-change-updated-gameday-operations
LOCATION:Yellow Jacket Stadium
URL;VALUE=URI:https://www.starkvillesd.com/calendar/4380232/shs-football-vs
 -noxubee-season-opener
DTSTART:20230826T010000Z
DTEND:20230826T040000Z
END:VEVENT
END:VCALENDAR
