BEGIN:VCALENDAR
VERSION:2.0
PRODID:SchoolNow
CALSCALE:GREGORIAN
BEGIN:VEVENT
UID:6b3e5038-095c-11ee-9560-0a8218498eef
DTSTAMP:20230612T200503Z
SUMMARY:SHS Football AT West Point
DESCRIPTION:SHS Football AT West Point\n7:00pm\nWest Point\, MS
LOCATION:West Point\, MS
URL;VALUE=URI:https://www.starkvillesd.com/calendar/4380235/shs-football-at
 -west-point
DTSTART:20230902T000000Z
DTEND:20230902T030000Z
END:VEVENT
END:VCALENDAR
