BEGIN:VCALENDAR
VERSION:2.0
PRODID:SchoolNow
CALSCALE:GREGORIAN
BEGIN:VEVENT
UID:c28bbf24-095c-11ee-b085-0a8218498eef
DTSTAMP:20230612T200730Z
SUMMARY:SHS Football AT Meridian
DESCRIPTION:SHS Football AT Meridian\n7:00pm\nMeridian\, MS
LOCATION:Meridian\, MS
URL;VALUE=URI:https://www.starkvillesd.com/calendar/4380239/shs-football-at
 -meridian
DTSTART:20230909T000000Z
DTEND:20230909T030000Z
END:VEVENT
END:VCALENDAR
