BEGIN:VCALENDAR
VERSION:2.0
PRODID:SchoolNow
CALSCALE:GREGORIAN
BEGIN:VEVENT
UID:2752ea2c-095d-11ee-9994-0a8218498eef
DTSTAMP:20230612T201019Z
SUMMARY:SHS Football VS Louisville
DESCRIPTION:SHS Football VS Louisville\n7:00pm\nYellow Jacket Stadium
LOCATION:Yellow Jacket Stadium
URL;VALUE=URI:https://www.starkvillesd.com/calendar/4380242/shs-football-vs
 -louisville
DTSTART:20230916T000000Z
DTEND:20230916T030000Z
END:VEVENT
END:VCALENDAR
