BEGIN:VCALENDAR
VERSION:2.0
PRODID:SchoolNow
CALSCALE:GREGORIAN
BEGIN:VEVENT
UID:6c558b20-095d-11ee-a18b-0a8218498eef
DTSTAMP:20230612T201214Z
SUMMARY:SHS Football VS Oxford
DESCRIPTION:SHS Football VS Oxford\n7:00pm\nYellow Jacket Stadium
LOCATION:Yellow Jacket Stadium
URL;VALUE=URI:https://www.starkvillesd.com/calendar/4380246/shs-football-vs
 -oxford
DTSTART:20230923T000000Z
DTEND:20230923T030000Z
END:VEVENT
END:VCALENDAR
