BEGIN:VCALENDAR
VERSION:2.0
PRODID:SchoolNow
CALSCALE:GREGORIAN
BEGIN:VEVENT
UID:bdc18090-095d-11ee-83a5-0a8218498eef
DTSTAMP:20230612T201431Z
SUMMARY:SHS Football VS Greenwood (Homecoming)
DESCRIPTION:HOMECOMING\n​​​​​​​SHS Football VS Greenwood\n7:0
 0pm\nYellow Jacket Stadium
LOCATION:Yellow Jacket Stadium
URL;VALUE=URI:https://www.starkvillesd.com/calendar/4380249/shs-football-vs
 -greenwood-homecoming
DTSTART:20230930T000000Z
DTEND:20230930T030000Z
END:VEVENT
END:VCALENDAR
