BEGIN:VCALENDAR
VERSION:2.0
PRODID:SchoolNow
CALSCALE:GREGORIAN
BEGIN:VEVENT
UID:1afd1bc0-095e-11ee-8270-0a8218498eef
DTSTAMP:20230612T201707Z
SUMMARY:SHS Football AT Germantown
DESCRIPTION:SHS Football AT Germantown\n7:00pm\nMadison\, MS
LOCATION:Madison\, MS
URL;VALUE=URI:https://www.starkvillesd.com/calendar/4380253/shs-football-at
 -germantown
DTSTART:20231007T000000Z
DTEND:20231007T030000Z
END:VEVENT
END:VCALENDAR
