BEGIN:VCALENDAR
VERSION:2.0
PRODID:SchoolNow
CALSCALE:GREGORIAN
BEGIN:VEVENT
UID:61ff6e2e-095e-11ee-9595-0a8218498eef
DTSTAMP:20230612T201907Z
SUMMARY:SHS VS Clinton
DESCRIPTION:SHS Football VS Clinton\n7:00pm\nYellow Jacket Stadium
LOCATION:Yellow Jacket Stadium
URL;VALUE=URI:https://www.starkvillesd.com/calendar/4380257/shs-vs-clinton
DTSTART:20231014T000000Z
DTEND:20231014T030000Z
END:VEVENT
END:VCALENDAR
