BEGIN:VCALENDAR
VERSION:2.0
PRODID:SchoolNow
CALSCALE:GREGORIAN
BEGIN:VEVENT
UID:c85f8550-095e-11ee-b772-0a8218498eef
DTSTAMP:20230612T202158Z
SUMMARY:SHS VS Madison Central (Senior Night)
DESCRIPTION:SENIOR NIGHT\n​​​​​​​SHS Football VS Madison Cent
 ral\n7:00pm\nYellow Jacket Stadium
LOCATION:Yellow Jacket Stadium
URL;VALUE=URI:https://www.starkvillesd.com/calendar/4380264/shs-vs-madison-
 central-senior-night
DTSTART:20231028T000000Z
DTEND:20231028T030000Z
END:VEVENT
END:VCALENDAR
