BEGIN:VCALENDAR
VERSION:2.0
PRODID:SchoolNow
CALSCALE:GREGORIAN
BEGIN:VEVENT
UID:7ad2b4f0-0964-11ee-bdac-02e999f51f09
DTSTAMP:20230613T213032Z
SUMMARY:Partnership: 7th Grade Open House
DESCRIPTION:Join us at Partnership Middle School for 7th Grade Open House a
 nd meet your teachers\, bring supplies\, and find your classrooms!
LOCATION:Partnership Middle School
URL;VALUE=URI:https://www.starkvillesd.com/calendar/4380317/partnership-7th
 -grade-open-house
DTSTART:20230721T133000Z
DTEND:20230721T163000Z
END:VEVENT
END:VCALENDAR
