BEGIN:VCALENDAR
VERSION:2.0
PRODID:SchoolNow
CALSCALE:GREGORIAN
BEGIN:VEVENT
UID:ba6b7584-0964-11ee-ab28-02e999f51f09
DTSTAMP:20230612T210432Z
SUMMARY:Partnership: 6th Grade Open House
DESCRIPTION:Join us at Partnership Middle School for 6th Grade Open House a
 nd meet your teachers\, bring supplies\, and find your classrooms! We can'
 t wait to welcome you to a new year of excellent learning experiences!
LOCATION:Partnership Middle School
URL;VALUE=URI:https://www.starkvillesd.com/calendar/4380321/partnership-6th
 -grade-open-house
DTSTART:20230721T173000Z
DTEND:20230721T213000Z
END:VEVENT
END:VCALENDAR
