BEGIN:VCALENDAR
VERSION:2.0
PRODID:SchoolNow
CALSCALE:GREGORIAN
BEGIN:VEVENT
UID:21a9fb86-096e-11ee-9157-0269947ab3e1
DTSTAMP:20230612T221151Z
SUMMARY:SHS: Open House
LOCATION:Starkville High School
URL;VALUE=URI:https://www.starkvillesd.com/calendar/4380340/shs-open-house
DTSTART:20230724T140000Z
DTEND:20230724T170000Z
END:VEVENT
END:VCALENDAR
