BEGIN:VCALENDAR
VERSION:2.0
PRODID:SchoolNow
CALSCALE:GREGORIAN
BEGIN:VEVENT
UID:26c28d6c-096f-11ee-bb54-0269947ab3e1
DTSTAMP:20230726T175549Z
SUMMARY:West: Open House - Jul. 21\, 2023 12:00 PM - 2:00 PM
DESCRIPTION:Join us at West Elementary for 2023-2024 Open House and meet yo
 ur teachers\, bring supplies\, and find your classrooms! We can't wait to 
 welcome you to a new year of excellent learning experiences!
LOCATION:West Elementary
URL;VALUE=URI:https://www.starkvillesd.com/calendar/4380347/west-open-house
 -jul-21-2023-12-00-pm-2-00-pm
DTSTART:20230721T170000Z
DTEND:20230721T190000Z
END:VEVENT
END:VCALENDAR
