BEGIN:VCALENDAR
VERSION:2.0
PRODID:SchoolNow
CALSCALE:GREGORIAN
BEGIN:VEVENT
UID:2c5976a2-0a30-11ee-8e0f-02e999f51f09
DTSTAMP:20230613T212051Z
SUMMARY:Sudduth: Open House - By Appointment Only
DESCRIPTION:Sudduth Elementary is excited to welcome students and families 
 for 2023-2024 Open House to meet your teachers\, bring supplies\, and vis
 it your classrooms! We can't wait to welcome you to a new year of excelle
 nt learning experiences! We will host Open House on Friday\, July 21 by ap
 pointment only. Parents will be able to sign up for an appointment when yo
 u pick up your child's teacher assignment on July 13-14.
LOCATION:Sudduth Elementary
URL;VALUE=URI:https://www.starkvillesd.com/calendar/4384749/sudduth-open-ho
 use-by-appointment-only
DTSTART;VALUE=DATE:20230721
DTEND;VALUE=DATE:20230722
END:VEVENT
END:VCALENDAR
