BEGIN:VCALENDAR
VERSION:2.0
PRODID:SchoolNow
CALSCALE:GREGORIAN
BEGIN:VEVENT
UID:82f36c2a-0a30-11ee-b98d-02e999f51f09
DTSTAMP:20230613T212316Z
SUMMARY:Sudduth: Teacher Assignment Pick-up
DESCRIPTION:Sudduth Elementary will host Teacher Assignment Pick-up on July
  13-14. Parents will be required to submit completed school paperwork befo
 re receiving your teacher assignment. When you pick up your teacher assign
 ment\, parents will also be able to sign up for an Open House time slot.
LOCATION:Sudduth Elementary
URL;VALUE=URI:https://www.starkvillesd.com/calendar/4384754/sudduth-teacher
 -assignment-pick-up-clone
DTSTART:20230714T120000Z
DTEND:20230714T170000Z
END:VEVENT
END:VCALENDAR
