BEGIN:VCALENDAR
VERSION:2.0
PRODID:SchoolNow
CALSCALE:GREGORIAN
BEGIN:VEVENT
UID:fb620932-0a30-11ee-9aa6-02e999f51f09
DTSTAMP:20230711T214917Z
SUMMARY:Armstrong: Schedule & Device Pick-up (By Appointment Only)
DESCRIPTION:Armstrong Junior High School will host schedule and device pick
 -up for students on July 17. A sign-up genius link will be emailed to pare
 nts to sign up for a time slot to pick up your child's schedule and device
 .
LOCATION:Armstrong Junior High School
URL;VALUE=URI:https://www.starkvillesd.com/calendar/4384757/armstrong-sched
 ule-device-pick-up
DTSTART:20230717T130000Z
DTEND:20230717T180000Z
END:VEVENT
END:VCALENDAR
