BEGIN:VCALENDAR
VERSION:2.0
PRODID:SchoolNow
CALSCALE:GREGORIAN
BEGIN:VEVENT
UID:4f06e378-0a31-11ee-ab09-02e999f51f09
DTSTAMP:20230613T212859Z
SUMMARY:Armstrong: Open House
DESCRIPTION:Join us at Armstrong Junior High School for Open House and meet
  your teachers\, complete school paperwork and find your classrooms!
LOCATION:Armstrong Junior High School
URL;VALUE=URI:https://www.starkvillesd.com/calendar/4384761/armstrong-open-
 house
DTSTART:20230724T180000Z
DTEND:20230724T220000Z
END:VEVENT
END:VCALENDAR
