BEGIN:VCALENDAR
VERSION:2.0
PRODID:SchoolNow
CALSCALE:GREGORIAN
BEGIN:VEVENT
UID:f94aa730-0ada-11ee-923a-0204d8765481
DTSTAMP:20230614T174329Z
SUMMARY:Student Support Services Parent Meeting
DESCRIPTION:PARENTAL INVOLVEMENT NOTICE\nThe Starkville Oktibbeha Consolida
 ted School District Director of Student Support Services is currently soli
 citing input from parents of students with disabilities to assist in the d
 evelopment of the 2023-2024 IDEA Special Education Project Application. If
  you are the parent/guardian of a student with a disability and would like
  to contribute your input\, please contact Julie Jones\, Director of Stude
 nt Support Services before June 28\, 2023\, at 662-615-0059. Additionally\
 , there will be a parent meeting for the IDEA budget on June 30\, 2023\, f
 rom 10:30am – 11:30 am in Room 22 of the Greensboro Center.
LOCATION:Greensboro Center\, Room 22
URL;VALUE=URI:https://www.starkvillesd.com/calendar/4388081/student-support
 -services-parent-meeting
DTSTART:20230701T033000Z
DTEND:20230701T043000Z
END:VEVENT
END:VCALENDAR
