BEGIN:VCALENDAR
VERSION:2.0
PRODID:SchoolNow
CALSCALE:GREGORIAN
BEGIN:VEVENT
UID:bbabe776-0ba8-11ee-8c50-02a0799fa33f
DTSTAMP:20230615T181622Z
SUMMARY:Overstreet: Teacher Assignment Pick-up
DESCRIPTION:We invite Overstreet families to stop by to pick up student sch
 edules for the 2023-2024 school year. Overstreet Open House is scheduled f
 or July 24.
LOCATION:Overstreet Elementary
URL;VALUE=URI:https://www.starkvillesd.com/calendar/4394282/overstreet-teac
 her-assignment-pick-up
DTSTART:20230714T173000Z
DTEND:20230714T200000Z
END:VEVENT
END:VCALENDAR
