BEGIN:VCALENDAR
VERSION:2.0
PRODID:SchoolNow
CALSCALE:GREGORIAN
BEGIN:VEVENT
UID:f76526d8-0ba8-11ee-9242-02a0799fa33f
DTSTAMP:20230711T214720Z
SUMMARY:Partnership: Schedule Pick-up
DESCRIPTION:We invite our families to stop by to pick up student schedules 
 for the 2023-2024 school year -- 8am - 3pm. Open House is scheduled for J
 uly 21.
LOCATION:Partnership Middle School
URL;VALUE=URI:https://www.starkvillesd.com/calendar/4394284/partnership-sch
 edule-pick-up
DTSTART:20230718T130000Z
DTEND:20230718T200000Z
END:VEVENT
END:VCALENDAR
