BEGIN:VCALENDAR
VERSION:2.0
PRODID:SchoolNow
CALSCALE:GREGORIAN
BEGIN:VEVENT
UID:bb840eb4-1061-11ee-a4ac-0e14414dd41b
DTSTAMP:20230621T183043Z
SUMMARY:HWS: Teacher Assignment Pick-up
DESCRIPTION:2nd Grade Pick-Up Location: Annex Library \n\n3rd Grade Pick
 -Up:  Main Office  \n\n4th Grade Pick-Up:  Henderson Building\n\nSee 
 Signage for grade-level designation/locations which will be placed outside
  the buildings.
LOCATION:Henderson Ward Stewart
URL;VALUE=URI:https://www.starkvillesd.com/calendar/4418812/hws-teacher-ass
 ignment-pick-up
DTSTART:20230717T150000Z
DTEND:20230717T180000Z
END:VEVENT
END:VCALENDAR
