BEGIN:VCALENDAR
VERSION:2.0
PRODID:SchoolNow
CALSCALE:GREGORIAN
BEGIN:VEVENT
UID:eb5589a0-1062-11ee-9219-0e14414dd41b
DTSTAMP:20230621T183913Z
SUMMARY:HWS: Open House - School Wide
DESCRIPTION:Join us for Open House on The Hill!\n\n2nd Grade Designated Ti
 me 8-10  \n\n3rd Grade Designated Time 10-12\n\n4th Grade Designated T
 ime 12-2\n\nSchool Wide Open House 2-3:30
LOCATION:Henderson Ward Stewart
URL;VALUE=URI:https://www.starkvillesd.com/calendar/4418827/hws-open-house-
 2nd-grade-clone-clone-clone
DTSTART:20230724T190000Z
DTEND:20230724T203000Z
END:VEVENT
END:VCALENDAR
