BEGIN:VCALENDAR
VERSION:2.0
PRODID:SchoolNow
CALSCALE:GREGORIAN
BEGIN:VEVENT
UID:a405dc84-106d-11ee-a30e-0e7482235fa7
DTSTAMP:20230621T195558Z
SUMMARY:Special Called Board Meeting of the SOCSD Board of Trustees
URL;VALUE=URI:https://www.starkvillesd.com/calendar/4418840/special-called-
 board-meeting-of-the-socsd-board-of-trustees
DTSTART:20230629T210000Z
DTEND:20230629T220000Z
END:VEVENT
END:VCALENDAR
