BEGIN:VCALENDAR
VERSION:2.0
PRODID:SchoolNow
CALSCALE:GREGORIAN
BEGIN:VEVENT
UID:efb41f20-1134-11ee-9485-02aacb1b1b65
DTSTAMP:20230726T175335Z
SUMMARY:Emerson Preschool: Open House - Jul. 21\, 2023 1:00 PM - 3:00 PM
DESCRIPTION:Join us for Open House at Emerson on Friday\, June 21\n9:00am -
  11:00am and 1:00pm - 3:00\n\nParents should plan to attend one mandatory 
 parent meeting on June 21:\nNon PreK families -- 9:00am or 2:00pm\n​​
 ​​​​​PreK families -- 10:00am or 1:00pm
LOCATION:Emerson Preschool
URL;VALUE=URI:https://www.starkvillesd.com/calendar/4422626/emerson-prescho
 ol-open-house
DTSTART:20230721T180000Z
DTEND:20230721T200000Z
END:VEVENT
END:VCALENDAR
