BEGIN:VCALENDAR
VERSION:2.0
PRODID:SchoolNow
CALSCALE:GREGORIAN
BEGIN:VEVENT
UID:26c39914-1135-11ee-bd7c-02aacb1b1b65
DTSTAMP:20230726T175405Z
SUMMARY:Emerson Preschool: Open House - Jul. 21\, 2023 9:00 AM - 11:00 AM
DESCRIPTION:Join us for Open House at Emerson on Friday\, June 21\n9:00am -
  11:00am and 1:00pm - 3:00\n\nParents should plan to attend one mandatory 
 parent meeting on June 21:\nNon PreK families -- 9:00am or 2:00pm\n​​
 ​​​​​PreK families -- 10:00am or 1:00pm
LOCATION:Emerson Preschool
URL;VALUE=URI:https://www.starkvillesd.com/calendar/4422629/emerson-prescho
 ol-open-house-clone
DTSTART:20230721T140000Z
DTEND:20230721T160000Z
END:VEVENT
END:VCALENDAR
