BEGIN:VCALENDAR
VERSION:2.0
PRODID:SchoolNow
CALSCALE:GREGORIAN
BEGIN:VEVENT
UID:121b70da-1136-11ee-949d-02aacb1b1b65
DTSTAMP:20230622T195042Z
SUMMARY:Overstreet: Open House
DESCRIPTION:Join us at Overstreet Elementary for Open House and meet your t
 eachers\, bring supplies and find your classrooms!
LOCATION:Overstreet Elementary
URL;VALUE=URI:https://www.starkvillesd.com/calendar/4422633/overstreet-open
 -house
DTSTART:20230724T173000Z
DTEND:20230724T200000Z
END:VEVENT
END:VCALENDAR
