BEGIN:VCALENDAR
VERSION:2.0
PRODID:SchoolNow
CALSCALE:GREGORIAN
BEGIN:VEVENT
UID:0ff84246-1452-11ee-b18c-025370c22e91
DTSTAMP:20230626T184838Z
SUMMARY:DEADLINE: Bus Riders must complete Registration
DESCRIPTION:If you plan for your student to ride a bus for the start of sch
 ool on July 25\, registration must be completed by July 14. Students who 
 have not completed school registration by July 14 will not be able to ride
  the bus during the first week of school.\n\nPlease visit www.starkvilles
 d.com/registration for instructions on how to register and a list of acce
 ptable residency and required immunization documents.
URL;VALUE=URI:https://www.starkvillesd.com/calendar/4439010/deadline-bus-ri
 ders-must-complete-registration
DTSTART;VALUE=DATE:20230714
DTEND;VALUE=DATE:20230715
END:VEVENT
END:VCALENDAR
