BEGIN:VCALENDAR
VERSION:2.0
PRODID:SchoolNow
CALSCALE:GREGORIAN
BEGIN:VEVENT
UID:6d8c83fe-1452-11ee-b892-025370c22e91
DTSTAMP:20230714T013333Z
SUMMARY:SOCSD Board of Trustees Meeting
LOCATION:Greensboro Center
URL;VALUE=URI:https://www.starkvillesd.com/calendar/4439021/socsd-board-of-
 trustees-meeting
DTSTART:20230718T150000Z
DTEND:20230718T160000Z
END:VEVENT
END:VCALENDAR
