BEGIN:VCALENDAR
VERSION:2.0
PRODID:SchoolNow
CALSCALE:GREGORIAN
BEGIN:VEVENT
UID:8bb60da0-1452-11ee-b5f1-025370c22e91
DTSTAMP:20230626T185205Z
SUMMARY:SOCSD Board of Trustees Meeting
LOCATION:Greensboro Center
URL;VALUE=URI:https://www.starkvillesd.com/calendar/4439022/socsd-board-of-
 trustees-meeting
DTSTART:20230808T230000Z
DTEND:20230809T000000Z
END:VEVENT
END:VCALENDAR
