BEGIN:VCALENDAR
VERSION:2.0
PRODID:SchoolNow
CALSCALE:GREGORIAN
BEGIN:VEVENT
UID:a7731506-1452-11ee-b9d9-025370c22e91
DTSTAMP:20230626T185252Z
SUMMARY:SOCSD Board of Trustees Meeting
LOCATION:Greensboro Center
URL;VALUE=URI:https://www.starkvillesd.com/calendar/4439023/socsd-board-of-
 trustees-meeting
DTSTART:20230912T230000Z
DTEND:20230913T000000Z
END:VEVENT
END:VCALENDAR
