BEGIN:VCALENDAR
VERSION:2.0
PRODID:SchoolNow
CALSCALE:GREGORIAN
BEGIN:VEVENT
UID:c18b10e2-1452-11ee-a2a2-025370c22e91
DTSTAMP:20230626T185336Z
SUMMARY:SOCSD Board of Trustees Meeting
LOCATION:Greensboro Center
URL;VALUE=URI:https://www.starkvillesd.com/calendar/4439024/socsd-board-of-
 trustees-meeting
DTSTART:20231010T230000Z
DTEND:20231011T000000Z
END:VEVENT
END:VCALENDAR
