BEGIN:VCALENDAR
VERSION:2.0
PRODID:SchoolNow
CALSCALE:GREGORIAN
BEGIN:VEVENT
UID:efdc3a6a-271d-11ee-a1a3-0a58a9feac02
DTSTAMP:20230720T165322Z
SUMMARY:DEADLINE: Sign up to take the PSAT/NMSQT test (10th-11th graders)
DESCRIPTION:The PSAT/NMSQT test will be given on Wednesday\, October 18\, 2
 023 at Starkville High School. The deadline to sign up is August 11\, 2023
  via the form at link below. Sign-ups are open to 10th and 11th graders. N
 o late sign-ups will be accepted.\n\nhttps://docs.google.com/forms/d/e/1FA
 IpQLSdIOGNVHy9wC-iwMo3Ik7vkDFMrTfMYyK7Tif0ZfG8Wm6QrPw/viewform
LOCATION:Starkville High School
URL;VALUE=URI:https://www.starkvillesd.com/calendar/4501982/deadline-sign-u
 p-to-take-the-psat-nmsqt-test-10th-11th-graders
DTSTART;VALUE=DATE:20230811
DTEND;VALUE=DATE:20230812
END:VEVENT
END:VCALENDAR
