BEGIN:VCALENDAR
VERSION:2.0
PRODID:SchoolNow
CALSCALE:GREGORIAN
BEGIN:VEVENT
UID:ef4e6c3e-271e-11ee-a1f6-0a2b130c3785
DTSTAMP:20230720T170031Z
SUMMARY:Class of 2024 Senior Breakfast & Parade (sponsored by SHS PTO)
DESCRIPTION:Class of 2024 Senior Breakfast and Parade\n\nTues\, July 25 - F
 irst Day of School\n\nSHS Tennis Pavilion\n\n7:45am - Breakfast begins\n\n
 8:15am - Parade begins\n\nSeniors may park at La Terazza before Breakfast 
 and drivers will parade from LaTa to Victory Lane and over Millsaps Bridge
  to the Senior Parking Lot.
LOCATION:SHS Tennis Pavilion
URL;VALUE=URI:https://www.starkvillesd.com/calendar/4501984/class-of-2023-s
 enior-breakfast-parade-sponsored-by-shs-pto
DTSTART:20230725T124500Z
DTEND:20230725T134500Z
END:VEVENT
END:VCALENDAR
