BEGIN:VCALENDAR
VERSION:2.0
PRODID:SchoolNow
CALSCALE:GREGORIAN
BEGIN:VEVENT
UID:d19d9bac-2beb-11ee-9fc0-0a58a9feac02
DTSTAMP:20230726T193749Z
SUMMARY:Speech and Debate Team: Interest Meeting (6th -12th graders)
DESCRIPTION:Speech & Debate Team Interest Meeting\n\nfor 6th - 12th graders
 \n\nWednesday\, August 2\n\n6:00pm\n\nPartnership Middle School
LOCATION:Partnership Middle School
URL;VALUE=URI:https://www.starkvillesd.com/calendar/4524458/speech-and-deba
 te-team-interest-meeting-6th-12th-graders
DTSTART:20230802T230000Z
DTEND:20230803T000000Z
END:VEVENT
END:VCALENDAR
