BEGIN:VCALENDAR
VERSION:2.0
PRODID:SchoolNow
CALSCALE:GREGORIAN
BEGIN:VEVENT
UID:37c7d426-2bf4-11ee-b649-0a58a9feac02
DTSTAMP:20230726T203720Z
SUMMARY:SHS Baseball: Tryouts for Pitchers/Catchers only (9th-12th graders)
DESCRIPTION:SHS Baseball Tryouts\n\nAll Pitchers & Catchers only\n\nTues\, 
 Aug 1\n\n4:15pm\n\nYellow Jacket Field\n\nPitchers will throw a short bull
 pen\n\nCatchers will catch bullpens\, showcasing receiving and blocking
LOCATION:Yellow Jacket Field
URL;VALUE=URI:https://www.starkvillesd.com/calendar/4524486/shs-baseball-tr
 youts-for-pitchers-catchers-only-9th-12th-graders
DTSTART:20230801T211500Z
DTEND:20230801T221500Z
END:VEVENT
END:VCALENDAR
