BEGIN:VCALENDAR
VERSION:2.0
PRODID:SchoolNow
CALSCALE:GREGORIAN
BEGIN:VEVENT
UID:3cbea076-2bf5-11ee-83b6-026c53c55dab
DTSTAMP:20230726T204438Z
SUMMARY:SHS Baseball: 2nd Round Tryouts -- Invitation Only
DESCRIPTION:SHS Baseball 2nd Round Tryouts -- invitation only\n\nFriday\, A
 ugust 4\n\n4:15pm\n\nYellow Jacket Field\n\nInvited players will compete i
 n a simulated game
LOCATION:Yellow Jacket Field
URL;VALUE=URI:https://www.starkvillesd.com/calendar/4524492/shs-baseball-2n
 d-round-tryouts-invitation-only
DTSTART:20230804T211500Z
DTEND:20230804T221500Z
END:VEVENT
END:VCALENDAR
