BEGIN:VCALENDAR
VERSION:2.0
PRODID:SchoolNow
CALSCALE:GREGORIAN
BEGIN:VEVENT
UID:b2a82290-2cb7-11ee-ab4f-0e6883f767cf
DTSTAMP:20230727T195638Z
SUMMARY:Jacket Soccer: Makeup/Transfer Tryouts
DESCRIPTION:Jacket Soccer Makeup/Transfer Tryouts\n(for 7th - 12th graders)
 \nWednesday\, August 2\n4:30pm - 5:30pm\nStarkville High School
LOCATION:Starkville High School
URL;VALUE=URI:https://www.starkvillesd.com/calendar/4527789/jacket-soccer-m
 akeup-transfer-tryouts
DTSTART:20230802T213000Z
DTEND:20230802T223000Z
END:VEVENT
END:VCALENDAR
