BEGIN:VCALENDAR
VERSION:2.0
PRODID:SchoolNow
CALSCALE:GREGORIAN
BEGIN:VEVENT
UID:20eb8144-309f-11ee-952d-02aa4284d8bb
DTSTAMP:20230801T191050Z
SUMMARY:Partnership Parent Academy: Sexting\, Sextortion & Tools for Cyber 
 Dangers
DESCRIPTION:Presenters from the Mississippi Department of Mental Health\, 
 Mississippi Attorney General's Office and Gulfcoast Center for Non-violen
 ce will join us to share important information for parents about keeping o
 ur kids safe online.
LOCATION:Partnership Middle Cafeteria
URL;VALUE=URI:https://www.starkvillesd.com/calendar/4537892/partnership-par
 ent-academy-sexting-sextortion-tools-for-cyber-dangers
DTSTART:20230809T223000Z
DTEND:20230809T233000Z
END:VEVENT
END:VCALENDAR
