BEGIN:VCALENDAR
VERSION:2.0
PRODID:SchoolNow
CALSCALE:GREGORIAN
BEGIN:VEVENT
UID:0812ee5a-3608-11ee-b9b6-022d37e437c1
DTSTAMP:20230808T162652Z
SUMMARY:Jacket Baseball: Junior High Tryouts (7th - 8th graders)
DESCRIPTION:Day 1 of Tryouts\n\nThursday\, August 10th (7th - 8th grade)\nP
 itchers and Catchers only\nRegistration -- 4:15-4:45pm at Yellow Jacket Fi
 eld\nTryouts immediately following\n\nPitchers will throw a short bullpen.
 \n\nCatchers will catch bullpens\, showcasing receiving & blocking.
URL;VALUE=URI:https://www.starkvillesd.com/calendar/4557318/jacket-baseball
 -junior-high-tryouts-7th-8th-graders
DTSTART:20230810T211500Z
DTEND:20230810T231500Z
END:VEVENT
END:VCALENDAR
