BEGIN:VCALENDAR
VERSION:2.0
PRODID:SchoolNow
CALSCALE:GREGORIAN
BEGIN:VEVENT
UID:3c92db9a-3608-11ee-9c65-0a58a9feac02
DTSTAMP:20230808T162549Z
SUMMARY:Jacket Baseball: Junior High Tryouts (7th - 8th graders)
DESCRIPTION:Day 2 of Tryouts\n\nFriday\, August 11th (7th - 8th grade)\nAll
  Position players\nRegistration -- 4:15-4:45 at Yellowjacket Field\nTryout
 s immediately following\n\n​​Players will go through a defensive and h
 itting evaluation
URL;VALUE=URI:https://www.starkvillesd.com/calendar/4557320/jacket-baseball
 -junior-high-tryouts-7th-8th-graders-clone
DTSTART:20230811T211500Z
DTEND:20230811T231500Z
END:VEVENT
END:VCALENDAR
