BEGIN:VCALENDAR
VERSION:2.0
PRODID:SchoolNow
CALSCALE:GREGORIAN
BEGIN:VEVENT
UID:22aafeea-3afb-11ee-8f26-02eb2102afdd
DTSTAMP:20230814T234204Z
SUMMARY:Jacket Archery Tryouts (7th-9th graders)
DESCRIPTION:Jacket Archery Tryouts\n\n(for 7th - 9th graders)\n\nAugust 22 
 - 24\n\n4:30pm\n\nHenderson Gym
LOCATION:Henderson Gym
URL;VALUE=URI:https://www.starkvillesd.com/calendar/4574068/jacket-archery-
 tryouts-7th-9th-graders-clone
DTSTART:20230823T213000Z
DTEND:20230824T000000Z
END:VEVENT
END:VCALENDAR
