BEGIN:VCALENDAR
VERSION:2.0
PRODID:SchoolNow
CALSCALE:GREGORIAN
BEGIN:VEVENT
UID:815f7c94-3afc-11ee-8c0a-0a58a9feac02
DTSTAMP:20230814T234427Z
SUMMARY:Jacket Archery Tryouts (10th - 12th graders)
DESCRIPTION:Jacket Archery Tryouts\n\n(for 10th - 12th graders)\n\nAugust 2
 9 - 31\n\n4:30pm\n\nHenderson Gym
LOCATION:Henderson Gym
URL;VALUE=URI:https://www.starkvillesd.com/calendar/4574084/jacket-archery-
 tryouts-10th-12th-graders-clone-clone
DTSTART:20230831T213000Z
DTEND:20230901T000000Z
END:VEVENT
END:VCALENDAR
