BEGIN:VCALENDAR
VERSION:2.0
PRODID:SchoolNow
CALSCALE:GREGORIAN
BEGIN:VEVENT
UID:0a0cb7ae-3afe-11ee-a406-0a58a9feac02
DTSTAMP:20230814T235525Z
SUMMARY:Louisville High School Football Jamboree
DESCRIPTION:Louisville Football Jamboree\n\nStarkville Yellow Jackets will 
 play Grenada at 6:00pm\n\nLouisville High School
LOCATION:Louisville High School
URL;VALUE=URI:https://www.starkvillesd.com/calendar/4574087/louisville-high
 -school-football-jamboree
DTSTART:20230819T230000Z
DTEND:20230820T020000Z
END:VEVENT
END:VCALENDAR
