BEGIN:VCALENDAR
VERSION:2.0
PRODID:SchoolNow
CALSCALE:GREGORIAN
BEGIN:VEVENT
UID:c3d73104-3f5f-11ee-8bd9-0a472bfcd05f
DTSTAMP:20230820T134503Z
SUMMARY:Jacket Tennis Tryouts (7th - 8th graders)
DESCRIPTION:Jacket Tennis Tryouts\n(for 9th - 12th graders)\nMonday\, Augus
 t 21\n4:15pm - 5:15pm\nSHS Tennis Courts\n\n(for 7th - 8th graders)\nTuesd
 ay\, August 22\n5:30pm - 6:30pm\n​​​​​​​SHS Tennis Courts\n\
 nFor full details on tryouts and requirements\, visit https://www.starkvi
 llesd.com/news/1770354/jacket-tennis-tryouts-announced
LOCATION:SHS Tennis Courts
URL;VALUE=URI:https://www.starkvillesd.com/calendar/4598703/jacket-tennis-t
 ryouts-9th-12th-graders-clone
DTSTART:20230822T223000Z
DTEND:20230822T233000Z
END:VEVENT
END:VCALENDAR
